BEGIN:VCALENDAR
PRODID:NingEventWidget-v1
VERSION:2.0
METHOD:PUBLISH
BEGIN:VEVENT
UID:5167423:Event:4801
DTSTAMP:20260425T105708Z
SUMMARY:World of Wheels Boston, MA
DESCRIPTION:\nAmerica's Finest Hot Rods, Customs and Motorcycles\n\"Sc
 ythe\" radical concept car by Galpin Auto Sports\n\"6 Pack\" – Wild 
 Custom from the cover of Mini Truckin’ Magazine\n\"Downtown Brown\" 
 Goodguys Hot Rod of the Year\n\"Streetnik Bandit\" - wild creation of 
 Dennis Lil Daddy Roth\nMotorama featuring Traditional Rods, Customs & 
 Bobbers\nPin Up Girl Contest\n\n\nDrag City USA featuring vintage race
  cars\n\n\nSPECIAL GUEST APPEARANCES\n* Guest appearances are a featur
 e of the show for scheduled times. Admission does not guarantee an aut
 ograph.\n\nCapt. Johnathan Hillstrand from TV's \"Deadliest Catch\"\nS
 aturday 1:00-4:00 & 7:00-9:00\n\n\nZendaya Coleman \"Rocky\" from Disn
 ey's \"Shake It Up\"\nSaturday 1:00-4:00 & 7:00-9:00\n\n\nDanielle fro
 m TV's \"American Pickers\"\nSunday 12:00 - 5:00\n\n\nRob Gronkowski -
  New England Patriots Tight End\nSunday 1:00-3:00 **Items not permitt
 ed at signing: Mini Helmets, Regulation Helmets, Jerseys, Footballs**\
 n\n\nComic Bots - Meet the Cool Comic Bots featuring King Robota in th
 e Town Fair Tire Booth\nFriday - Saturday - Sunday\n\n\n\n\n\nFor more
  information visit https://northeastwheelsevents.com/events/world-of-w
 heels-boston-ma-1
DTSTART:20110401T040000Z
DTEND:20110404T035900Z
CATEGORIES:car-show
LOCATION:Seaport World Trade Center
WEBSITE:http://www.autorama.com/casi/show/spectator/boston.php
URL:http://www.autorama.com/casi/show/spectator/boston.php
CONTACT:
ORGANIZER:World of Wheels-Autorama
ATTACH;FMTTYPE="image/jpeg":
ATTENDEE;ROLE=REQ-PARTICIPANT;PARTSTAT=ACCEPTED;RSVP=TRUE;CN="Great Am
 erican Services":https://northeastwheelsevents.com/profile/GreatAmeric
 anServices
END:VEVENT
END:VCALENDAR
