BEGIN:VCALENDAR
PRODID:NingEventWidget-v1
VERSION:2.0
METHOD:PUBLISH
BEGIN:VEVENT
UID:5167423:Event:347334
DTSTAMP:20260425T204048Z
SUMMARY:WRECK THE HALLS HOLIDAY EXPO 2025
DESCRIPTION:WRECK THE HALLS HOLIDAY EXPO 2025\r\nPURCHASE ADVANCE TICK
 ETS WITH ZERO FEES & IN PERSON AT: Out of Step Offbeat Boutique & Gene
 ral Store (www.facebook.com/outofstepshop) 960 Spruce Street, Lawrence
  Township, NJ 08648  ONLINE TICKETS AVAILABLE AT www.punkmarket.com (P
 lease note this is NOT a Ticketmaster event)  WALK UP TICKETS ARE ALWA
 YS AVAILABLE THE DAY OF THE EXPO for $20 (CASH ONLY).  Join us for the
  return of the New Jersey Punk Rock Flea Market's WRECK THE HALLS Holi
 day Expo occurring inside our brand new venue, The Dome at Adventure C
 rossing located in Jackson, NJ... just minutes from Six Flags Great Ad
 venture!  The NJPRFM is the East Coast's largest DIY Underground Shopp
 ing Experience & Arts Festival since 2013 featuring 100's of Vendors, 
 Artists & Makers from Across the Country, a Dozen Food Trucks per day,
  Special Guests, Cool Photo Ops for Charity, Hands-On Workshops, Live 
 DJ's, Author Signings, Cosplay, Live Sideshows, Music & Other Entertai
 nment, Tattooing & Body Piercing, Pop-Up Art Shows, Classic Cars & mor
 e.  Join thousands of others and spend the day indoors, and beat the c
 old while you take in the epicenter of East Coast creativity and inspi
 ration... Otherwise known as the NEW JERSEY PUNK ROCK FLEA MARKET  SPE
 CIAL GUESTS: Coming Soon!  TATTOO & PIERCING SHOPS: Coming Soon!\n\nFo
 r more information visit https://northeastwheelsevents.com/events/wrec
 k-the-halls-holiday-expo-2025
DTSTART:20251213T150000Z
DTEND:20251214T220000Z
CATEGORIES:carshow, toys4tots
LOCATION:The Dome at Adventure Crossing
WEBSITE:https://allevents.in/clarksburg/wreck-the-halls-holiday-expo-2
 025/200028609975421
URL:https://allevents.in/clarksburg/wreck-the-halls-holiday-expo-2025/
 200028609975421
CONTACT:732-426-5492
ORGANIZER:New Jersey Punk Rock Flea Market
ATTACH;FMTTYPE="image/jpeg":https://storage.ning.com/topology/rest/1.0
 /file/get/31007383664?profile=original
ATTENDEE;ROLE=REQ-PARTICIPANT;PARTSTAT=ACCEPTED;RSVP=TRUE;CN="William 
 Bruce":https://northeastwheelsevents.com/profile/WilliamBruce
END:VEVENT
END:VCALENDAR
