BEGIN:VCALENDAR
PRODID:NingEventWidget-v1
VERSION:2.0
METHOD:PUBLISH
BEGIN:VEVENT
UID:5167423:Event:345129
DTSTAMP:20260424T074026Z
SUMMARY:Yankee Steam Up & Car Show at New England Wireless & Steam Mus
 eum
DESCRIPTION:\r\nSteam and Wireless History Car Show and Yankee Steam u
 p Event Historical buildings, Wireless Technology, Antique Radio, Stat
 ionary Steam Engines, Ingenious Creations, Food, Snacks available for 
 purchase all proceeds support museum 501c3\r\n\r\nWhen: October 4, 20
 25 9am-3pm\r\n\r\nLocation:\r\n1300 Frenchtown RD\r\nEAST GREENWICH, R
 I 02818\r\n\r\nCost: Adults $20 Child $10 under 12 FREE\r\nTo Registe
 r: Click here for more information or call Thelissa Snow at 1-401-8
 85-0545 or e-mail us\n\nFor more information visit https://northeast
 wheelsevents.com/events/yankee-steam-up-car-show-at-new-england-wirele
 ss-steam-museum
DTSTART:20251004T130000Z
DTEND:20251004T190000Z
CATEGORIES:carshow, benefit
LOCATION:New England Wireless &amp; Steam
WEBSITE:https://www.hemmings.com/events/detail?listing_id=65860
URL:https://www.hemmings.com/events/detail?listing_id=65860
CONTACT:401-885-0545
ORGANIZER:Yankee Steam up Event
ATTACH;FMTTYPE="image/jpeg":https://storage.ning.com/topology/rest/1.0
 /file/get/13727876872?profile=original
ATTENDEE;ROLE=REQ-PARTICIPANT;PARTSTAT=ACCEPTED;RSVP=TRUE;CN="William 
 Bruce":https://northeastwheelsevents.com/profile/WilliamBruce
END:VEVENT
END:VCALENDAR
