BEGIN:VCALENDAR
PRODID:NingEventWidget-v1
VERSION:2.0
METHOD:PUBLISH
BEGIN:VEVENT
UID:5167423:Event:155667
DTSTAMP:20260423T003359Z
SUMMARY:York Mortorcycle Club  Charity
DESCRIPTION: All proceeds go to the Margaret Moul  Cerebral Palsy Ho
 me    20+ vendors\n\nFor more information visit https://northeastwhe
 elsevents.com/events/york-mortorcycle-club-charity
DTSTART:20170716T130000Z
DTEND:20170716T180000Z
CATEGORIES:charity
LOCATION:York Motorcycle  Clubhouse
WEBSITE:http://yorkmotorcycle.com
URL:http://yorkmotorcycle.com
CONTACT:(717) 854-5980
ORGANIZER;CN="steve dixon":https://northeastwheelsevents.com/profile/s
 tevedixon
ATTACH;FMTTYPE="image/jpeg":http://storage.ning.com/topology/rest/1.0/
 file/get/2284099596?profile=original
ATTENDEE;ROLE=REQ-PARTICIPANT;PARTSTAT=ACCEPTED;RSVP=TRUE;CN="steve di
 xon":https://northeastwheelsevents.com/profile/stevedixon
END:VEVENT
END:VCALENDAR
