BEGIN:VCALENDAR
PRODID:NingEventWidget-v1
VERSION:2.0
METHOD:PUBLISH
BEGIN:VEVENT
UID:5167423:Event:170404
DTSTAMP:20260419T233258Z
SUMMARY:York Nostalgia Weekend
DESCRIPTION:York US30 Heritage Days at the Eastern Museum of Motor Rac
 ing and the historic Latimore Valley Fairgrounds.  Special Guest Bunn
 y Burkett both days. Jungle \"Jim\" Liberman Day on Friday, July 20th 
 and Bill \"Grumpy\" Jenkins/Larry Lombardo Day on Saturday, July 21st.
   Cruisin' Into Summer cruise-in on\nSatruday, 10 a.m.-3 p.m.  Legio
 n of Honor awards Friday at 5 p.m. Cackling Thunder start-ups both day
 . Sunday, July 22nd York US30 Nostalgia Natyionals at Beaver Springs D
 ragway Activities begin at 8 a.m.  Info: Darwin Doll 717-757-2720 or 
 www.yorknostalgia.com or yorknostalgia facebook\n\nFor more informatio
 n visit https://northeastwheelsevents.com/events/york-nostalgia-weeken
 d
DTSTART:20180720T170000Z
DTEND:20180721T210000Z
CATEGORIES:nostalgia, drag, racing
LOCATION:Eastern Museum of Motor Racing
WEBSITE:http://www.yorknostalgia.com
URL:http://www.yorknostalgia.com
CONTACT:717-757-2720
ORGANIZER;CN="Darwin Doll":https://northeastwheelsevents.com/profile/D
 arwinDoll
ATTACH;FMTTYPE="image/jpeg":http://storage.ning.com/topology/rest/1.0/
 file/get/2284102121?profile=original
ATTENDEE;ROLE=REQ-PARTICIPANT;PARTSTAT=ACCEPTED;RSVP=TRUE;CN="Darwin D
 oll":https://northeastwheelsevents.com/profile/DarwinDoll
END:VEVENT
END:VCALENDAR
