BEGIN:VCALENDAR
PRODID:NingEventWidget-v1
VERSION:2.0
METHOD:PUBLISH
BEGIN:VEVENT
UID:5167423:Event:151267
DTSTAMP:20260423T003123Z
SUMMARY:York US30 Heritage Days
DESCRIPTION:Second Edition, York US30 Heritage Days at the Eastern Mus
 eum of Motor Racing and the Latimore Valley Fairgrounds. Dave Strickle
 r Day Friday, July 7th and 50th Anniversary of George Cureton and Ed M
 iller's World Championships at Tulsa, Oklahoma. Visit with Arnie \"The
  Farmer\" Beswick, Al Joniec, \"Ohio George\" Montgomery, Bob Harrop, 
 Bruce Larson and a host of Legends of Drag Racing. Legion of Honor Awa
 rds Ceremony at 5 p.m. Friday.  Al Joniec engine seminar Saturday 10 
 a.m. until noon.\nGlory Days Cruise In Saturaday 10 a.m. until 3 p.m. 
 All years welcome. Admission $10.00 children under 12 free. Proceeds b
 enefit EMMR. York Nostalgia facebook page.\n\nFor more information vis
 it https://northeastwheelsevents.com/events/york-us30-heritage-days
DTSTART:20170707T170000Z
DTEND:20170708T140000Z
CATEGORIES:nostalgia, drag, racing
LOCATION:Eastern Museum of Motor Racing/Latimore Valley Fairgrounds
WEBSITE:http://www.yorknostalgia.com
URL:http://www.yorknostalgia.com
CONTACT:717-757-2720
ORGANIZER;CN="Darwin Doll":https://northeastwheelsevents.com/profile/D
 arwinDoll
ATTACH;FMTTYPE="image/jpeg":http://storage.ning.com/topology/rest/1.0/
 file/get/2284098945?profile=original
ATTENDEE;ROLE=REQ-PARTICIPANT;PARTSTAT=ACCEPTED;RSVP=TRUE;CN="Darwin D
 oll":https://northeastwheelsevents.com/profile/DarwinDoll
END:VEVENT
END:VCALENDAR
