BEGIN:VCALENDAR
PRODID:NingEventWidget-v1
VERSION:2.0
METHOD:PUBLISH
BEGIN:VEVENT
UID:5167423:Event:34513
DTSTAMP:20260422T163114Z
SUMMARY:Zephyrhills Fall AutoFest
DESCRIPTION:Zephyrhills Fall AutoFest, a collector and classic car swa
 p meet, car corral and auction, takes place annually at Festival Park.
  The event and facilities are located just off U.S. Highway 301 in Zep
 hyrhills, Florida; just north of Tampa. Fall AutoFest signifies the co
 nclusion of Carlisle's year long event schedule but provides one final
  hurrah for thousands of collector and classic automotive enthusiasts.
  With a favorable climate year round, attendees and participants alike
  travel to Festival Park from all points of the globe to buy, sell and
  celebrate all things automotive. The event is family friendly and whe
 n onsite, you'll marvel at the sheer size of one of the largest automo
 tive swap meets in the world. Zephyrhills is a prime location to purch
 ase a car within the car corral where you can deal directly with the o
 wner or buy sell and trade with total confidence as part of the swap m
 eet. Finally, the auto auction held throughout the weekend provides un
 matched excitement with hundreds of cars crossing the block, all to th
 e delight of buyers, sellers and enthusiasts alike. Don't miss out on 
 this very special event, held each fall in Pasco County. \n\nFor more
  information visit https://northeastwheelsevents.com/events/zephyrhill
 s-fall-autofest
DTSTART:20141113T050000Z
DTEND:20141117T045900Z
CATEGORIES:swap, meet, car, corral, auto, auction
LOCATION:Festival Park
WEBSITE:http://www.carlisleevents.com/carlisle-events/zephyrhills-fall
 /default.aspx
URL:http://www.carlisleevents.com/carlisle-events/zephyrhills-fall/def
 ault.aspx
CONTACT:7172437855
ORGANIZER;CN="Carlisle Events":https://northeastwheelsevents.com/profi
 le/MichaelGarland
ATTACH;FMTTYPE="image/jpeg":http://storage.ning.com/topology/rest/1.0/
 file/get/2284054440?profile=original
ATTENDEE;ROLE=REQ-PARTICIPANT;PARTSTAT=ACCEPTED;RSVP=TRUE;CN="Carlisle
  Events":https://northeastwheelsevents.com/profile/MichaelGarland
END:VEVENT
END:VCALENDAR
