BEGIN:VCALENDAR
PRODID:NingEventWidget-v1
VERSION:2.0
METHOD:PUBLISH
BEGIN:VEVENT
UID:5167423:Event:1133
DTSTAMP:20260423T033233Z
SUMMARY:ZME Mobile Madness II
DESCRIPTION:Friday Night Lights\nShow & Shine\nSound-off with SPL and 
 SQL classes\nRide the Light contest for neon specialty lighting at dus
 k\n\nFor more information visit https://northeastwheelsevents.com/even
 ts/zme-mobile-madness-ii
DTSTART:20100725T190000Z
DTEND:20100726T020000Z
CATEGORIES:show, "&", shine, and, sound-off
LOCATION:Zenner Mobile Electronics
WEBSITE:http://www.mecacaraudio.com
URL:http://www.mecacaraudio.com
CONTACT:724-328-1320
ORGANIZER:Chris Zenner
ATTACH;FMTTYPE="image/jpeg":
ATTENDEE;ROLE=REQ-PARTICIPANT;PARTSTAT=ACCEPTED;RSVP=TRUE;CN="Steve St
 ern":https://northeastwheelsevents.com/profile/SteveStern
END:VEVENT
END:VCALENDAR
